BEGIN:VCALENDAR
VERSION:2.0
PRODID:-//www.jebailylaw.com - ECPv6.15.20//NONSGML v1.0//EN
CALSCALE:GREGORIAN
METHOD:PUBLISH
X-ORIGINAL-URL:https://www.jebailylaw.com
X-WR-CALDESC:Events for www.jebailylaw.com
REFRESH-INTERVAL;VALUE=DURATION:PT1H
X-Robots-Tag:noindex
X-PUBLISHED-TTL:PT1H
BEGIN:VTIMEZONE
TZID:UTC
BEGIN:STANDARD
TZOFFSETFROM:+0000
TZOFFSETTO:+0000
TZNAME:UTC
DTSTART:20220101T000000
END:STANDARD
END:VTIMEZONE
BEGIN:VEVENT
DTSTART;TZID=UTC:20230923T090000
DTEND;TZID=UTC:20230923T120000
DTSTAMP:20260423T113108
CREATED:20230911T201856Z
LAST-MODIFIED:20230911T201856Z
UID:10001110-1695459600-1695470400@www.jebailylaw.com
SUMMARY:Panting for Paws 5K
DESCRIPTION:Join us for the 5th Annual Panting for Paws 5K. This will be our biggest and best event yet! There will be finisher medals\, music\, food\, and games for the kids. Come help us support the homeless dogs & cats get healthy and find their furever homes. There will also be adoptable dogs & puppies there. \nAll proceeds go toward helping the homeless dogs and cats of the Darlington County Humane Society Shelter\, Florence Humane Society\, and Lucky Dog Rescue.
URL:https://www.jebailylaw.com/event/panting-for-paws-5k/
LOCATION:West Florence High School\, 221 North Beltline Drive\, Florence\, SC\, 29501\, United States
END:VEVENT
END:VCALENDAR