BEGIN:VCALENDAR
VERSION:2.0
PRODID:-//www.jebailylaw.com - ECPv6.15.20//NONSGML v1.0//EN
CALSCALE:GREGORIAN
METHOD:PUBLISH
X-WR-CALNAME:www.jebailylaw.com
X-ORIGINAL-URL:https://www.jebailylaw.com
X-WR-CALDESC:Events for www.jebailylaw.com
REFRESH-INTERVAL;VALUE=DURATION:PT1H
X-Robots-Tag:noindex
X-PUBLISHED-TTL:PT1H
BEGIN:VTIMEZONE
TZID:UTC
BEGIN:STANDARD
TZOFFSETFROM:+0000
TZOFFSETTO:+0000
TZNAME:UTC
DTSTART:20240101T000000
END:STANDARD
END:VTIMEZONE
BEGIN:VEVENT
DTSTART;TZID=UTC:20251017T073000
DTEND;TZID=UTC:20251017T130000
DTSTAMP:20260419T121033
CREATED:20251015T122854Z
LAST-MODIFIED:20251015T122854Z
UID:10002452-1760686200-1760706000@www.jebailylaw.com
SUMMARY:Florence Police 24th Annual Golf Tournament
DESCRIPTION:Join them on October 17\, 2025\, at The Country Club of SC for a day of fun\, fundraising\, and community spirit.
URL:https://www.jebailylaw.com/event/florence-police-24th-annual-golf-tournament/
LOCATION:The Country Club of SC \, Florence\, Florence
END:VEVENT
END:VCALENDAR