BEGIN:VCALENDAR
VERSION:2.0
PRODID:-//www.jebailylaw.com - ECPv6.15.20//NONSGML v1.0//EN
CALSCALE:GREGORIAN
METHOD:PUBLISH
X-ORIGINAL-URL:https://www.jebailylaw.com
X-WR-CALDESC:Events for www.jebailylaw.com
REFRESH-INTERVAL;VALUE=DURATION:PT1H
X-Robots-Tag:noindex
X-PUBLISHED-TTL:PT1H
BEGIN:VTIMEZONE
TZID:UTC
BEGIN:STANDARD
TZOFFSETFROM:+0000
TZOFFSETTO:+0000
TZNAME:UTC
DTSTART:20220101T000000
END:STANDARD
END:VTIMEZONE
BEGIN:VEVENT
DTSTART;TZID=UTC:20230820T190000
DTEND;TZID=UTC:20230820T210000
DTSTAMP:20260423T181938
CREATED:20230718T164226Z
LAST-MODIFIED:20230718T164226Z
UID:10001052-1692558000-1692565200@www.jebailylaw.com
SUMMARY:The Black Jacket Symphony Presents: Pink Floyd's 'The Dark Side of the Moon'
DESCRIPTION:Remember putting on an album and listening from start to finish? Relive that feeling with a live concert experience unlike any other as the renowned Black Jacket Symphony recreates Pink Floyd’s The Dark Side of the Moon album live in its entirety—note for note\, sound for sound—plus a full set of Pink Floyd’s greatest hits.
URL:https://www.jebailylaw.com/event/black-jacket-symphony-at-carolina-opry-theater/
LOCATION:The Carolina Opry\, 8901 North Kings Highway\, Myrtle Beach\, SC\, 29572\, United States
ORGANIZER;CN="The Black Jacket Symphony":MAILTO:jason@aframemgmt.com
END:VEVENT
END:VCALENDAR