BEGIN:VCALENDAR
VERSION:2.0
PRODID:-//www.jebailylaw.com - ECPv6.15.20//NONSGML v1.0//EN
CALSCALE:GREGORIAN
METHOD:PUBLISH
X-WR-CALNAME:www.jebailylaw.com
X-ORIGINAL-URL:https://www.jebailylaw.com
X-WR-CALDESC:Events for www.jebailylaw.com
REFRESH-INTERVAL;VALUE=DURATION:PT1H
X-Robots-Tag:noindex
X-PUBLISHED-TTL:PT1H
BEGIN:VTIMEZONE
TZID:UTC
BEGIN:STANDARD
TZOFFSETFROM:+0000
TZOFFSETTO:+0000
TZNAME:UTC
DTSTART:20220101T000000
END:STANDARD
END:VTIMEZONE
BEGIN:VEVENT
DTSTART;TZID=UTC:20240831T100000
DTEND;TZID=UTC:20240831T150000
DTSTAMP:20260424T114133
CREATED:20240829T193003Z
LAST-MODIFIED:20240829T193027Z
UID:10002359-1725098400-1725116400@www.jebailylaw.com
SUMMARY:Florence Racefest at the Market
DESCRIPTION:Some of the activities to participate in include:\n\nCozy Coupe Races\nArts & Crafts\nCarnival Games\nThe Kenny Shelley Memorial Auto Fair\nAcceleration Zone where you get the chance to touch and see racing vehicles up close and personal
URL:https://www.jebailylaw.com/event/florence-racefest-at-the-market-2/
LOCATION:Pee Dee State Farmers Market\, 2513 West Lucas Street\, Florence\, SC\, 29501\, United States
END:VEVENT
BEGIN:VEVENT
DTSTART;TZID=UTC:20240629T100000
DTEND;TZID=UTC:20240629T140000
DTSTAMP:20260424T114133
CREATED:20240627T132902Z
LAST-MODIFIED:20240627T132902Z
UID:10002330-1719655200-1719669600@www.jebailylaw.com
SUMMARY:Pee Dee State Farmers Market's Annual Watermelon Festival 2024
DESCRIPTION:Bring the whole family out to celebrate the sweetest event of the year: Pee Dee State Farmers Market’s Annual Watermelon Festival! Not only will there be watermelon tasting for all\, there will be a watermelon eating contest for children ages 8-16 plus Palmetto Fire Company will host fire truck tours for the littles (and bigs). It’s free admission\, free parking\, and even complimentary EV charging. Also on site will be Bullet Pro BBQ and Aloha Kitchen open from 11am until 8:30pm.
URL:https://www.jebailylaw.com/event/pee-dee-state-farmers-markets-annual-watermelon-festival-2024/
LOCATION:Pee Dee State Farmers Market\, 2513 West Lucas Street\, Florence\, SC\, 29501\, United States
END:VEVENT
BEGIN:VEVENT
DTSTART;TZID=UTC:20240421T100000
DTEND;TZID=UTC:20240421T170000
DTSTAMP:20260424T114133
CREATED:20240415T132756Z
LAST-MODIFIED:20240415T132830Z
UID:10001934-1713693600-1713718800@www.jebailylaw.com
SUMMARY:Pee Dee Plant & Flower Festival
DESCRIPTION:Come out and peruse the area’s largest selection of plants and decorations for spring. Free admission and parking.
URL:https://www.jebailylaw.com/event/pee-dee-plant-flower-festival/2024-04-21/
LOCATION:Pee Dee State Farmers Market\, 2513 West Lucas Street\, Florence\, SC\, 29501\, United States
END:VEVENT
BEGIN:VEVENT
DTSTART;TZID=UTC:20240420T080000
DTEND;TZID=UTC:20240420T180000
DTSTAMP:20260424T114133
CREATED:20240415T132756Z
LAST-MODIFIED:20240415T132830Z
UID:10001933-1713600000-1713636000@www.jebailylaw.com
SUMMARY:Pee Dee Plant & Flower Festival
DESCRIPTION:Come out and peruse the area’s largest selection of plants and decorations for spring. Free admission and parking.
URL:https://www.jebailylaw.com/event/pee-dee-plant-flower-festival/2024-04-20/
LOCATION:Pee Dee State Farmers Market\, 2513 West Lucas Street\, Florence\, SC\, 29501\, United States
END:VEVENT
BEGIN:VEVENT
DTSTART;TZID=UTC:20240419T080000
DTEND;TZID=UTC:20240419T180000
DTSTAMP:20260424T114133
CREATED:20240415T132756Z
LAST-MODIFIED:20240415T132830Z
UID:10001932-1713513600-1713549600@www.jebailylaw.com
SUMMARY:Pee Dee Plant & Flower Festival
DESCRIPTION:Come out and peruse the area’s largest selection of plants and decorations for spring. Free admission and parking.
URL:https://www.jebailylaw.com/event/pee-dee-plant-flower-festival/2024-04-19/
LOCATION:Pee Dee State Farmers Market\, 2513 West Lucas Street\, Florence\, SC\, 29501\, United States
END:VEVENT
BEGIN:VEVENT
DTSTART;TZID=UTC:20240418T080000
DTEND;TZID=UTC:20240418T180000
DTSTAMP:20260424T114133
CREATED:20240415T132756Z
LAST-MODIFIED:20240415T132830Z
UID:10001931-1713427200-1713463200@www.jebailylaw.com
SUMMARY:Pee Dee Plant & Flower Festival
DESCRIPTION:Come out and peruse the area’s largest selection of plants and decorations for spring. Free admission and parking.
URL:https://www.jebailylaw.com/event/pee-dee-plant-flower-festival/2024-04-18/
LOCATION:Pee Dee State Farmers Market\, 2513 West Lucas Street\, Florence\, SC\, 29501\, United States
END:VEVENT
BEGIN:VEVENT
DTSTART;TZID=UTC:20231203T100000
DTEND;TZID=UTC:20231203T160000
DTSTAMP:20260424T114133
CREATED:20231130T133506Z
LAST-MODIFIED:20231130T133506Z
UID:10001540-1701597600-1701619200@www.jebailylaw.com
SUMMARY:Third Annual Christmas Market
DESCRIPTION:Join the Pee Dee State Farmers Market as its transformed by the spirit of the season at the Third Annual Christmas Market. There will be local arts and crafts vendors\, gifts\, and a large selection of Christmas trees! There will also be two food trucks on site and don’t miss out on getting your photo taken with Santa on Sunday between 11am-3pm. You’ll even get a complimentary Christmas cookie with any food purchase of $5 or more!
URL:https://www.jebailylaw.com/event/third-annual-christmas-market/2023-12-03/
LOCATION:Pee Dee State Farmers Market\, 2513 West Lucas Street\, Florence\, SC\, 29501\, United States
END:VEVENT
BEGIN:VEVENT
DTSTART;TZID=UTC:20231202T100000
DTEND;TZID=UTC:20231202T170000
DTSTAMP:20260424T114133
CREATED:20231130T133506Z
LAST-MODIFIED:20231130T133506Z
UID:10001539-1701511200-1701536400@www.jebailylaw.com
SUMMARY:Third Annual Christmas Market
DESCRIPTION:Join the Pee Dee State Farmers Market as its transformed by the spirit of the season at the Third Annual Christmas Market. There will be local arts and crafts vendors\, gifts\, and a large selection of Christmas trees! There will also be two food trucks on site and don’t miss out on getting your photo taken with Santa on Sunday between 11am-3pm. You’ll even get a complimentary Christmas cookie with any food purchase of $5 or more!
URL:https://www.jebailylaw.com/event/third-annual-christmas-market/2023-12-02/
LOCATION:Pee Dee State Farmers Market\, 2513 West Lucas Street\, Florence\, SC\, 29501\, United States
END:VEVENT
BEGIN:VEVENT
DTSTART;TZID=UTC:20231021T100000
DTEND;TZID=UTC:20231021T150000
DTSTAMP:20260424T114133
CREATED:20231004T150121Z
LAST-MODIFIED:20231004T150121Z
UID:10001494-1697882400-1697900400@www.jebailylaw.com
SUMMARY:Family Harvest Festival
DESCRIPTION:The Pee Dee State Farmers Market is hosting its annual Harvest Festival from 10 a.m. to 3 p.m. This event is free and open to the public. Visitors can expect children’s activities! And the biggest and best pumpkin selection anywhere in the Pee Dee! Free parking and admission.
URL:https://www.jebailylaw.com/event/family-harvest-festival/
LOCATION:Pee Dee State Farmers Market\, 2513 West Lucas Street\, Florence\, SC\, 29501\, United States
END:VEVENT
BEGIN:VEVENT
DTSTART;TZID=UTC:20231008T140000
DTEND;TZID=UTC:20231008T153000
DTSTAMP:20260424T114134
CREATED:20231003T124335Z
LAST-MODIFIED:20231003T124335Z
UID:10001491-1696773600-1696779000@www.jebailylaw.com
SUMMARY:Growing Hobby's Succulent Pumpkin Workshop
DESCRIPTION:Have some fun this fall and create a stunning seasonal centerpiece for your family to gather around! The workshop includes all the materials for a succulent pumpkin centerpiece; participants may choose a pumpkin of up to $10 value from a neighboring vendor.
URL:https://www.jebailylaw.com/event/growing-hobbys-succulent-pumpkin-workshop/
LOCATION:Pee Dee State Farmers Market\, 2513 West Lucas Street\, Florence\, SC\, 29501\, United States
ORGANIZER;CN="Growing Hobby":MAILTO:growinghobby@gmail.com
END:VEVENT
BEGIN:VEVENT
DTSTART;TZID=UTC:20230929T080000
DTEND;TZID=UTC:20230929T180000
DTSTAMP:20260424T114134
CREATED:20230911T210434Z
LAST-MODIFIED:20230911T210434Z
UID:10001111-1695974400-1696010400@www.jebailylaw.com
SUMMARY:Fall Plant and Flower Festival
DESCRIPTION:Save the date! Shop seasonal plants\, flowers\, decor and more! Our fall event is FREE and open to the public. \nThe market is stocked with local fall produce\, and will also have the largest selection of pumpkins in the Pee Dee area! Food vendors will be on hand throughout the festival. In addition\, South Carolina Master Gardeners will be available to answer questions regarding fall planting.
URL:https://www.jebailylaw.com/event/fall-plant-and-flower-festival/
LOCATION:Pee Dee State Farmers Market\, 2513 West Lucas Street\, Florence\, SC\, 29501\, United States
END:VEVENT
BEGIN:VEVENT
DTSTART;TZID=UTC:20230902T100000
DTEND;TZID=UTC:20230902T140000
DTSTAMP:20260424T114134
CREATED:20230829T144457Z
LAST-MODIFIED:20230829T144457Z
UID:10001080-1693648800-1693663200@www.jebailylaw.com
SUMMARY:Florence Racefest at the Market
DESCRIPTION:We are excited about a new event coming to the Pee Dee area! Florence Racefest at the Market is a family-friendly event geared to kickoff race weekend for the area. \nSome of the activities to participate in include:\nInflatables\nWater Slide\nCozy Coupe Races\nArts & Crafts\nMobile Video Game Truck\nAirbrush Face Painting\nCarnival Games\nThe Kenny Shelley Memorial Auto Fair\nDJ’s with music playing throughout event\nAcceleration Zone where you get the chance to touch and see racing vehicles up close and personal\nand much more!
URL:https://www.jebailylaw.com/event/florence-racefest-at-the-market/
LOCATION:Pee Dee State Farmers Market\, 2513 West Lucas Street\, Florence\, SC\, 29501\, United States
END:VEVENT
END:VCALENDAR