BEGIN:VCALENDAR
VERSION:2.0
PRODID:-//www.jebailylaw.com - ECPv6.15.20//NONSGML v1.0//EN
CALSCALE:GREGORIAN
METHOD:PUBLISH
X-ORIGINAL-URL:https://www.jebailylaw.com
X-WR-CALDESC:Events for www.jebailylaw.com
REFRESH-INTERVAL;VALUE=DURATION:PT1H
X-Robots-Tag:noindex
X-PUBLISHED-TTL:PT1H
BEGIN:VTIMEZONE
TZID:UTC
BEGIN:STANDARD
TZOFFSETFROM:+0000
TZOFFSETTO:+0000
TZNAME:UTC
DTSTART:20220101T000000
END:STANDARD
END:VTIMEZONE
BEGIN:VEVENT
DTSTART;TZID=UTC:20230915T190000
DTEND;TZID=UTC:20230915T210000
DTSTAMP:20260423T111035
CREATED:20230705T153820Z
LAST-MODIFIED:20230705T153820Z
UID:10001048-1694804400-1694811600@www.jebailylaw.com
SUMMARY:Karen as Dolly (Dolly Parton Tribute)
DESCRIPTION:Enjoy an evening with your family and friends listening to live music at the amphitheater at the North Myrtle Beach Park & Sports Complex. Bring a beach chair or blanket. For your convenience\, food and drinks will be available for purchase. Tobacco products\, coolers\, outside food\, and beverages are not allowed.
URL:https://www.jebailylaw.com/event/karen-as-dolly-dolly-parton-tribute/
LOCATION:NMB Park & Sports Complex Amphitheater\, 150 Citizens Circle\, Little River\, SC\, 29566\, United States
END:VEVENT
BEGIN:VEVENT
DTSTART;TZID=UTC:20230818T190000
DTEND;TZID=UTC:20230818T210000
DTSTAMP:20260423T111035
CREATED:20230705T153632Z
LAST-MODIFIED:20230705T153632Z
UID:10001047-1692385200-1692392400@www.jebailylaw.com
SUMMARY:Paul Grimshaw Band (Tribute to Van Morrison and James Taylor)
DESCRIPTION:The Sounds of Summer Concert Series presents Paul Grimshaw Band (Tribute to Van Morrison and James Taylor). Enjoy an evening with your family and friends listening to live music at the amphitheater at the North Myrtle Beach Park & Sports Complex. For your convenience\, food and drinks will be available for purchase. Tobacco products\, coolers\, outside food\, and beverages are not allowed.
URL:https://www.jebailylaw.com/event/paul-grimshaw-band-tribute-to-van-morrison-and-james-taylor/
LOCATION:NMB Park & Sports Complex Amphitheater\, 150 Citizens Circle\, Little River\, SC\, 29566\, United States
END:VEVENT
BEGIN:VEVENT
DTSTART;TZID=UTC:20230721T190000
DTEND;TZID=UTC:20230721T210000
DTSTAMP:20260423T111035
CREATED:20230705T153048Z
LAST-MODIFIED:20230705T153048Z
UID:10001046-1689966000-1689973200@www.jebailylaw.com
SUMMARY:Swinging Medallions "Since 1962"
DESCRIPTION:The Sounds of Summer Concert Series presents Swinging Medallions “Since 1962” \nEnjoy an evening with your family and friends listening to live music at the amphitheater under the stars.
URL:https://www.jebailylaw.com/event/swinging-medallions-since-1962/
LOCATION:NMB Park & Sports Complex Amphitheater\, 150 Citizens Circle\, Little River\, SC\, 29566\, United States
END:VEVENT
END:VCALENDAR