BEGIN:VCALENDAR
VERSION:2.0
PRODID:-//www.jebailylaw.com - ECPv6.15.20//NONSGML v1.0//EN
CALSCALE:GREGORIAN
METHOD:PUBLISH
X-ORIGINAL-URL:https://www.jebailylaw.com
X-WR-CALDESC:Events for www.jebailylaw.com
REFRESH-INTERVAL;VALUE=DURATION:PT1H
X-Robots-Tag:noindex
X-PUBLISHED-TTL:PT1H
BEGIN:VTIMEZONE
TZID:UTC
BEGIN:STANDARD
TZOFFSETFROM:+0000
TZOFFSETTO:+0000
TZNAME:UTC
DTSTART:20240101T000000
END:STANDARD
END:VTIMEZONE
BEGIN:VEVENT
DTSTART;TZID=UTC:20251016T080000
DTEND;TZID=UTC:20251016T170000
DTSTAMP:20260419T143803
CREATED:20251015T125721Z
LAST-MODIFIED:20251015T125721Z
UID:10002454-1760601600-1760634000@www.jebailylaw.com
SUMMARY:Myrtle Beach Area Ghosts\, Pirates and Historic Families Trolley Tour
DESCRIPTION:
URL:https://www.jebailylaw.com/event/myrtle-beach-area-ghosts-pirates-and-historic-families-trolley-tour/
LOCATION:In front of Grand 14 Movie Theater at The Market Common Grand 14 Theatre In Front Of 4002 Deville Street Myrtle Beach\, SC 29577\, Myrtle Beach
END:VEVENT
END:VCALENDAR