BEGIN:VCALENDAR
VERSION:2.0
PRODID:-//www.jebailylaw.com - ECPv6.15.20//NONSGML v1.0//EN
CALSCALE:GREGORIAN
METHOD:PUBLISH
X-WR-CALNAME:www.jebailylaw.com
X-ORIGINAL-URL:https://www.jebailylaw.com
X-WR-CALDESC:Events for www.jebailylaw.com
REFRESH-INTERVAL;VALUE=DURATION:PT1H
X-Robots-Tag:noindex
X-PUBLISHED-TTL:PT1H
BEGIN:VTIMEZONE
TZID:UTC
BEGIN:STANDARD
TZOFFSETFROM:+0000
TZOFFSETTO:+0000
TZNAME:UTC
DTSTART:20230101T000000
END:STANDARD
END:VTIMEZONE
BEGIN:VEVENT
DTSTART;TZID=UTC:20240601T070000
DTEND;TZID=UTC:20240601T170000
DTSTAMP:20260420T230150
CREATED:20240530T123729Z
LAST-MODIFIED:20240530T123729Z
UID:10002322-1717225200-1717261200@www.jebailylaw.com
SUMMARY:Sweat for a Vet 5K
DESCRIPTION:Join us for the Inaugural Sweat For A Vet 5K Run/Walk hosted by the Sons of the American Legion Post 178 in Murrells Inlet\, SC! Or choose the virtual option and run/walk with us from your location! Runners and Walkers are all welcome! Our course begins and ends at the American Legion Post 178 with very few turns.
URL:https://www.jebailylaw.com/event/sweat-for-a-vet-5k/
LOCATION:American Legion Post 178\, 3950 Highway 17 Business\, Murrels Inlet\, SC\, 29576\, United States
END:VEVENT
END:VCALENDAR