BEGIN:VCALENDAR
VERSION:2.0
PRODID:-//www.jebailylaw.com - ECPv6.15.20//NONSGML v1.0//EN
CALSCALE:GREGORIAN
METHOD:PUBLISH
X-ORIGINAL-URL:https://www.jebailylaw.com
X-WR-CALDESC:Events for www.jebailylaw.com
REFRESH-INTERVAL;VALUE=DURATION:PT1H
X-Robots-Tag:noindex
X-PUBLISHED-TTL:PT1H
BEGIN:VTIMEZONE
TZID:UTC
BEGIN:STANDARD
TZOFFSETFROM:+0000
TZOFFSETTO:+0000
TZNAME:UTC
DTSTART:20220101T000000
END:STANDARD
END:VTIMEZONE
BEGIN:VEVENT
DTSTART;TZID=UTC:20231202T080000
DTEND;TZID=UTC:20231202T100000
DTSTAMP:20260423T232611
CREATED:20231127T171320Z
LAST-MODIFIED:20231127T171320Z
UID:10001530-1701504000-1701511200@www.jebailylaw.com
SUMMARY:Breakfast with Santa and a Mermaid
DESCRIPTION:‘Tis the season! \nSanta is making a special visit to Ripley’s Aquarium of Myrtle Beach and it will be a holly jolly experience for the family. We’ve decked the halls with dozens of Christmas trees\, prepared some delightful breakfast bites\, and invited our mermaid and scuba elf friends to say hello! \nFestivities Include: \n\nBreakfast Bites\nWriting Letters to Santa\nElf Dive Show\nMeet and Greet with a Mermaid\nSouvenir Photo with Santa (One photo per paid adult ticket)\nFestive Holiday Crafts\nAquarium Admission\nFestival of Trees Display\nScavenger Hunt
URL:https://www.jebailylaw.com/event/breakfast-with-santa-and-a-mermaid/
LOCATION:Ripley’s Aquarium of Myrtle Beach\, 1110 Celebrity Circle\, Myrtle Beach\, SC\, 29577\, United States
END:VEVENT
BEGIN:VEVENT
DTSTART;TZID=UTC:20230811T090000
DTEND;TZID=UTC:20230811T110000
DTSTAMP:20260423T232611
CREATED:20230725T141232Z
LAST-MODIFIED:20230725T141232Z
UID:10001055-1691744400-1691751600@www.jebailylaw.com
SUMMARY:Ripley's Crazy Golf 'Back to School Putting Challenge'
DESCRIPTION:Show off your skills\, have a tee-rific time\, and compete for the champion title\, prizes\, and a cause! \nSCHEDULE \n9:00 a.m. – Registration – don’t be late!\n9:15 a.m. – Let the games begin!\n10:30 a.m. – Awards Ceremony \nPRIZES \n1st Place\nRipley’s Aquarium Sloth Encounter and $100 Visa Gift Card \n2nd Place\nRipley’s Ultimate Annual Pass and $75 Visa Gift Card \n3rd Place\n$50 Visa Gift Card \nSupporting Help4Kids / Backpack Buddies to make a difference in the lives of local school-aged children. Donate a new backpack (ages 4 – 14)\, new clothes (sizes 6 – 14\, all seasons)\, or new shoes (sizes 1 – 8.5) and receive a Ripley’s reward. \nSnacks provided to keep you fueled up! Let’s par-tee for a good cause!
URL:https://www.jebailylaw.com/event/ripleys-crazy-golf-back-to-school-putting-challenge/
LOCATION:Ripley’s Crazy Golf\, 915 North Ocean Boulevard\, Myrtle Beach\, SC\, 29577\, United States
END:VEVENT
END:VCALENDAR