BEGIN:VCALENDAR
VERSION:2.0
PRODID:-//www.jebailylaw.com - ECPv6.15.20//NONSGML v1.0//EN
CALSCALE:GREGORIAN
METHOD:PUBLISH
X-ORIGINAL-URL:https://www.jebailylaw.com
X-WR-CALDESC:Events for www.jebailylaw.com
REFRESH-INTERVAL;VALUE=DURATION:PT1H
X-Robots-Tag:noindex
X-PUBLISHED-TTL:PT1H
BEGIN:VTIMEZONE
TZID:UTC
BEGIN:STANDARD
TZOFFSETFROM:+0000
TZOFFSETTO:+0000
TZNAME:UTC
DTSTART:20230101T000000
END:STANDARD
END:VTIMEZONE
BEGIN:VEVENT
DTSTART;TZID=UTC:20240530T193000
DTEND;TZID=UTC:20240530T223000
DTSTAMP:20260421T010019
CREATED:20240529T183534Z
LAST-MODIFIED:20240529T183534Z
UID:10002316-1717097400-1717108200@www.jebailylaw.com
SUMMARY:FSO Rocks 2024
DESCRIPTION:Dr. Terry Roberts along with the Florence Symphony Orchestra will perform a classic rock concert featuring hits from Tom Petty\, Boston\, The Pretenders\, Dire Straits\, The Who\, Eric Clapton and more. The legendary Mike Keneally will be the featured guitarist. Keneally\, a former Frank Zappa guitarist\, will be joined by fellow rocker and FMU professor Brandon Goff on guitar. Vocalists include local choral professor Fran Coleman\, Florence Little Theater main-stays Cole Davis and Christian Rodgers and multi-instrumentalist and vocalist Leigh Montague.
URL:https://www.jebailylaw.com/event/fso-rocks-2024/
LOCATION:Francis Marion University Performing Arts Center\, 201 South Dargan Street\, Florence\, SC\, 29506\, United States
ORGANIZER;CN="Florence Symphony Orchestra":MAILTO:manager@florencesymphony.com
END:VEVENT
BEGIN:VEVENT
DTSTART;TZID=UTC:20240303T140000
DTEND;TZID=UTC:20240303T160000
DTSTAMP:20260421T010019
CREATED:20240226T144132Z
LAST-MODIFIED:20240226T144818Z
UID:10001924-1709474400-1709481600@www.jebailylaw.com
SUMMARY:Magic of Music
DESCRIPTION:Presented by the Florence Symphony Orchestra\, Magic of Music is a family concert featuring music from Harry Potter and other magical pieces! If you have young children\, be sure to arrive early at 2pm for the instrument petting zoo. The concert will begin at 3pm.
URL:https://www.jebailylaw.com/event/magic-of-music/
LOCATION:Francis Marion University Performing Arts Center\, 201 South Dargan Street\, Florence\, SC\, 29506\, United States
ORGANIZER;CN="Florence Symphony Orchestra":MAILTO:manager@florencesymphony.com
END:VEVENT
END:VCALENDAR