BEGIN:VCALENDAR
VERSION:2.0
PRODID:-//www.jebailylaw.com - ECPv6.15.20//NONSGML v1.0//EN
CALSCALE:GREGORIAN
METHOD:PUBLISH
X-ORIGINAL-URL:https://www.jebailylaw.com
X-WR-CALDESC:Events for www.jebailylaw.com
REFRESH-INTERVAL;VALUE=DURATION:PT1H
X-Robots-Tag:noindex
X-PUBLISHED-TTL:PT1H
BEGIN:VTIMEZONE
TZID:UTC
BEGIN:STANDARD
TZOFFSETFROM:+0000
TZOFFSETTO:+0000
TZNAME:UTC
DTSTART:20220101T000000
END:STANDARD
END:VTIMEZONE
BEGIN:VEVENT
DTSTART;TZID=UTC:20241102T100000
DTEND;TZID=UTC:20241102T190000
DTSTAMP:20260424T161430
CREATED:20241024T133327Z
LAST-MODIFIED:20241024T133327Z
UID:10002371-1730541600-1730574000@www.jebailylaw.com
SUMMARY:SC Pecan Music and Food Festival
DESCRIPTION:The 2024 SC Pecan Music and Food Festival marks its 20th annual event on Saturday\, November 2\, 2024. This exciting one-day festival has delighted residents and visitors alike and is the area’s largest event\, drawing over 50\,000 attendees each year. The festival consistently wins Best of the Pee Dee awards and has been featured in numerous national publications such as Travel + Leisure Magazine Online and AAA’s Go Magazine.
URL:https://www.jebailylaw.com/event/sc-pecan-music-and-food-festival/
LOCATION:Downtown Florence\, 100 South Dargan Street\, Florence\, SC\, 29501\, United States
END:VEVENT
BEGIN:VEVENT
DTSTART;TZID=UTC:20230915T173000
DTEND;TZID=UTC:20230915T203000
DTSTAMP:20260424T161430
CREATED:20230808T175546Z
LAST-MODIFIED:20230808T175546Z
UID:10001071-1694799000-1694809800@www.jebailylaw.com
SUMMARY:2023 Tap into Downtown
DESCRIPTION:Tap into Downtown is a unique craft brew crawl experience that engages our downtown businesses and transforms their shops into craft beer tasting rooms! Sample 20+ different craft brews along with small bites as you taste your way around Downtown Florence. \nAttendees must be over 21 to participate and the ticket price includes a commemorative tasting glass\, pretzel necklace\, and wristband (not to mention all of those brews). Back by popular demand\, be sure to participate in the craft brew scavenger hunt! Find our hidden bottle caps along the brew crawl and exchange them for great prizes.
URL:https://www.jebailylaw.com/event/2023-tap-into-downtown/
LOCATION:Greater Florence Chamber Office\, 100 West Evans Street\, Florence\, SC\, 29501\, United States
END:VEVENT
END:VCALENDAR