BEGIN:VCALENDAR
VERSION:2.0
PRODID:-//www.jebailylaw.com - ECPv6.15.20//NONSGML v1.0//EN
CALSCALE:GREGORIAN
METHOD:PUBLISH
X-ORIGINAL-URL:https://www.jebailylaw.com
X-WR-CALDESC:Events for www.jebailylaw.com
REFRESH-INTERVAL;VALUE=DURATION:PT1H
X-Robots-Tag:noindex
X-PUBLISHED-TTL:PT1H
BEGIN:VTIMEZONE
TZID:UTC
BEGIN:STANDARD
TZOFFSETFROM:+0000
TZOFFSETTO:+0000
TZNAME:UTC
DTSTART:20250101T000000
END:STANDARD
END:VTIMEZONE
BEGIN:VEVENT
DTSTART;TZID=UTC:20260429T000000
DTEND;TZID=UTC:20260429T000000
DTSTAMP:20260424T123543
CREATED:20260423T120139Z
LAST-MODIFIED:20260423T120139Z
UID:10002531-1777420800-1777420800@www.jebailylaw.com
SUMMARY:Shag Dancing Classes with Charlie & Jackie
DESCRIPTION:Make plans to Join Charlie and Jackie on Monday Nights at Fat Harold’s Beach Club on Main street in the heart of Ocean Drive for weekly Shag classes!
URL:https://www.jebailylaw.com/event/shag-dancing-classes-with-charlie-jackie-3/
LOCATION:Fat Harold’s Beach Club 212 Main St North Myrtle Beach\, SC 29582\, North Myrtle Beach
END:VEVENT
BEGIN:VEVENT
DTSTART;TZID=UTC:20260501T160000
DTEND;TZID=UTC:20260501T200000
DTSTAMP:20260424T123543
CREATED:20260423T105624Z
LAST-MODIFIED:20260423T105624Z
UID:10002527-1777651200-1777665600@www.jebailylaw.com
SUMMARY:Florence Food Truck Festival
DESCRIPTION:🚚🍔 The Florence Food Truck Festival is BACK! \nJoin us at the Florence Center for two days full of flavor\, fun\, and family-friendly activities! \n📅 May 1 | 4PM–8PM\n📅 May 2 | 10AM–8PM \nEnjoy 20+ food trucks serving a wide variety of delicious eats\, plus a kids area\, live performances (to be announced)\, seating areas to relax and enjoy your food\, and non-food vendors to explore. Best of all — the festival is pet-friendly\, so bring your furry friends along! 🐾
URL:https://www.jebailylaw.com/event/florence-food-truck-festival/
LOCATION:Florence Center Arena\, florence
END:VEVENT
BEGIN:VEVENT
DTSTART;TZID=UTC:20260505T000000
DTEND;TZID=UTC:20260505T000000
DTSTAMP:20260424T123543
CREATED:20260423T123430Z
LAST-MODIFIED:20260423T123430Z
UID:10002532-1777939200-1777939200@www.jebailylaw.com
SUMMARY:Dinner Cruises
DESCRIPTION:Come join us on board the Barefoot Queen Riverboat for an exciting cruise down the Intracoastal Waterway! Sit back\, relax\, and enjoy your lunch or dinner as you let the gentle waves carry you past the stunning million-dollar homes that line the coast. As you glide through the serene waters\, let our talented entertainer serenade you with captivating tunes and regale you with fascinating facts of the Waterway’s rich history.
URL:https://www.jebailylaw.com/event/dinner-cruises-3/
LOCATION:2051 Bridge View Court North Myrtle Beach\, SC 29582\, North Myrtle Beach
END:VEVENT
BEGIN:VEVENT
DTSTART;TZID=UTC:20260529T173000
DTEND;TZID=UTC:20260529T203000
DTSTAMP:20260424T123543
CREATED:20250416T153800Z
LAST-MODIFIED:20250416T153800Z
UID:10002409-1780075800-1780086600@www.jebailylaw.com
SUMMARY:Florence After 5
DESCRIPTION:The events run from 5:30 until 8:30 p.m. and the band takes the stage at 6:00 p.m. Food and beverages are available at the event. All food and beverage sales are made via tickets\, which can be purchased at our ticket booth located near the Florence County Museum. Just look for the big ticket flag! Tickets are $1.00 each. Both cash and cards are accepted. \nConvenient event parking is available in the free City of Florence Parking Garage accessed via 150 S. Irby Street or in any of the available on-street spaces on W. Evans and N. Dargan Street\, the SC DHEC parking lot\, or the BTC parking lot. \nRestrooms are located in the James Allen Plaza. \nFriday\, April 25 – The Catalinas \nFriday\, May 30 – Chocolate Chip and Company Band \nFriday\, June 27 – The Main Event Band \nFriday\, July 25  – ACE Party Band \nFriday\, August 29 – Chris Taylor & the Rumor \nFriday\, September 26 – too MUCH SyLviA
URL:https://www.jebailylaw.com/event/florence-after-5-2/2026-05-29/
LOCATION:Downtown Florence\, 100 South Dargan Street\, Florence\, SC\, 29501\, United States
END:VEVENT
BEGIN:VEVENT
DTSTART;TZID=UTC:20260626T173000
DTEND;TZID=UTC:20260626T203000
DTSTAMP:20260424T123544
CREATED:20250416T153800Z
LAST-MODIFIED:20250416T153800Z
UID:10002410-1782495000-1782505800@www.jebailylaw.com
SUMMARY:Florence After 5
DESCRIPTION:The events run from 5:30 until 8:30 p.m. and the band takes the stage at 6:00 p.m. Food and beverages are available at the event. All food and beverage sales are made via tickets\, which can be purchased at our ticket booth located near the Florence County Museum. Just look for the big ticket flag! Tickets are $1.00 each. Both cash and cards are accepted. \nConvenient event parking is available in the free City of Florence Parking Garage accessed via 150 S. Irby Street or in any of the available on-street spaces on W. Evans and N. Dargan Street\, the SC DHEC parking lot\, or the BTC parking lot. \nRestrooms are located in the James Allen Plaza. \nFriday\, April 25 – The Catalinas \nFriday\, May 30 – Chocolate Chip and Company Band \nFriday\, June 27 – The Main Event Band \nFriday\, July 25  – ACE Party Band \nFriday\, August 29 – Chris Taylor & the Rumor \nFriday\, September 26 – too MUCH SyLviA
URL:https://www.jebailylaw.com/event/florence-after-5-2/2026-06-26/
LOCATION:Downtown Florence\, 100 South Dargan Street\, Florence\, SC\, 29501\, United States
END:VEVENT
BEGIN:VEVENT
DTSTART;TZID=UTC:20260731T173000
DTEND;TZID=UTC:20260731T203000
DTSTAMP:20260424T123544
CREATED:20250416T153800Z
LAST-MODIFIED:20250416T153800Z
UID:10002411-1785519000-1785529800@www.jebailylaw.com
SUMMARY:Florence After 5
DESCRIPTION:The events run from 5:30 until 8:30 p.m. and the band takes the stage at 6:00 p.m. Food and beverages are available at the event. All food and beverage sales are made via tickets\, which can be purchased at our ticket booth located near the Florence County Museum. Just look for the big ticket flag! Tickets are $1.00 each. Both cash and cards are accepted. \nConvenient event parking is available in the free City of Florence Parking Garage accessed via 150 S. Irby Street or in any of the available on-street spaces on W. Evans and N. Dargan Street\, the SC DHEC parking lot\, or the BTC parking lot. \nRestrooms are located in the James Allen Plaza. \nFriday\, April 25 – The Catalinas \nFriday\, May 30 – Chocolate Chip and Company Band \nFriday\, June 27 – The Main Event Band \nFriday\, July 25  – ACE Party Band \nFriday\, August 29 – Chris Taylor & the Rumor \nFriday\, September 26 – too MUCH SyLviA
URL:https://www.jebailylaw.com/event/florence-after-5-2/2026-07-31/
LOCATION:Downtown Florence\, 100 South Dargan Street\, Florence\, SC\, 29501\, United States
END:VEVENT
BEGIN:VEVENT
DTSTART;TZID=UTC:20260828T173000
DTEND;TZID=UTC:20260828T203000
DTSTAMP:20260424T123544
CREATED:20250416T153800Z
LAST-MODIFIED:20250416T153800Z
UID:10002412-1787938200-1787949000@www.jebailylaw.com
SUMMARY:Florence After 5
DESCRIPTION:The events run from 5:30 until 8:30 p.m. and the band takes the stage at 6:00 p.m. Food and beverages are available at the event. All food and beverage sales are made via tickets\, which can be purchased at our ticket booth located near the Florence County Museum. Just look for the big ticket flag! Tickets are $1.00 each. Both cash and cards are accepted. \nConvenient event parking is available in the free City of Florence Parking Garage accessed via 150 S. Irby Street or in any of the available on-street spaces on W. Evans and N. Dargan Street\, the SC DHEC parking lot\, or the BTC parking lot. \nRestrooms are located in the James Allen Plaza. \nFriday\, April 25 – The Catalinas \nFriday\, May 30 – Chocolate Chip and Company Band \nFriday\, June 27 – The Main Event Band \nFriday\, July 25  – ACE Party Band \nFriday\, August 29 – Chris Taylor & the Rumor \nFriday\, September 26 – too MUCH SyLviA
URL:https://www.jebailylaw.com/event/florence-after-5-2/2026-08-28/
LOCATION:Downtown Florence\, 100 South Dargan Street\, Florence\, SC\, 29501\, United States
END:VEVENT
BEGIN:VEVENT
DTSTART;TZID=UTC:20260925T173000
DTEND;TZID=UTC:20260925T203000
DTSTAMP:20260424T123544
CREATED:20250416T153800Z
LAST-MODIFIED:20250416T153800Z
UID:10002413-1790357400-1790368200@www.jebailylaw.com
SUMMARY:Florence After 5
DESCRIPTION:The events run from 5:30 until 8:30 p.m. and the band takes the stage at 6:00 p.m. Food and beverages are available at the event. All food and beverage sales are made via tickets\, which can be purchased at our ticket booth located near the Florence County Museum. Just look for the big ticket flag! Tickets are $1.00 each. Both cash and cards are accepted. \nConvenient event parking is available in the free City of Florence Parking Garage accessed via 150 S. Irby Street or in any of the available on-street spaces on W. Evans and N. Dargan Street\, the SC DHEC parking lot\, or the BTC parking lot. \nRestrooms are located in the James Allen Plaza. \nFriday\, April 25 – The Catalinas \nFriday\, May 30 – Chocolate Chip and Company Band \nFriday\, June 27 – The Main Event Band \nFriday\, July 25  – ACE Party Band \nFriday\, August 29 – Chris Taylor & the Rumor \nFriday\, September 26 – too MUCH SyLviA
URL:https://www.jebailylaw.com/event/florence-after-5-2/2026-09-25/
LOCATION:Downtown Florence\, 100 South Dargan Street\, Florence\, SC\, 29501\, United States
END:VEVENT
END:VCALENDAR